BEGIN:VCALENDAR
VERSION:2.0
PRODID:-//Region 5 of Overeaters Anonymous - ECPv6.15.20//NONSGML v1.0//EN
CALSCALE:GREGORIAN
METHOD:PUBLISH
X-WR-CALNAME:Region 5 of Overeaters Anonymous
X-ORIGINAL-URL:https://www.region5oa.org
X-WR-CALDESC:Events for Region 5 of Overeaters Anonymous
REFRESH-INTERVAL;VALUE=DURATION:PT1H
X-Robots-Tag:noindex
X-PUBLISHED-TTL:PT1H
BEGIN:VTIMEZONE
TZID:UTC
BEGIN:STANDARD
TZOFFSETFROM:+0000
TZOFFSETTO:+0000
TZNAME:UTC
DTSTART:20240101T000000
END:STANDARD
END:VTIMEZONE
BEGIN:VEVENT
DTSTART;TZID=UTC:20250406T090000
DTEND;TZID=UTC:20250406T100000
DTSTAMP:20260425T080120
CREATED:20220329T184738Z
LAST-MODIFIED:20220329T184738Z
UID:5598-1743930000-1743933600@www.region5oa.org
SUMMARY:Sunday Morning Coffee and Recovery Meeting
DESCRIPTION:I’m Event Type:        Recovery Meeting \nEvent Name:      Sunday Morning Coffee and Recovery Meeting (Overeaters Anonymous Meeting #88762) \nSponsored By:   Region 5 \nDate Time:          Every Sunday from 9:00 AM to 10:00 AM Eastern Time\, 8:00 AM to 9:00 AM Central. \nLocation:             Zoom Meeting ID: 842 2999 2560              Passcode: 23@Coffee \nLink:  https://us06web.zoom.us/j/84229992560?pwd=ODRuOGZmL3piaUhsTmhyLy9IamlxZz09 \nDial In:                  +1 312 626 6799 \n+1 929 205 6099 \nCLICK HERE TO DOWNLOAD PDF
URL:https://www.region5oa.org/event/sunday-morning-coffee-and-recovery-meeting/2025-04-06/
LOCATION:Online
CATEGORIES:Repeating
ATTACH;FMTTYPE=image/jpeg:https://www.region5oa.org/wp-content/uploads/2022/03/SundayFlyer.jpg
END:VEVENT
BEGIN:VEVENT
DTSTART;TZID=UTC:20250413T090000
DTEND;TZID=UTC:20250413T100000
DTSTAMP:20260425T080120
CREATED:20220329T184738Z
LAST-MODIFIED:20220329T184738Z
UID:5599-1744534800-1744538400@www.region5oa.org
SUMMARY:Sunday Morning Coffee and Recovery Meeting
DESCRIPTION:I’m Event Type:        Recovery Meeting \nEvent Name:      Sunday Morning Coffee and Recovery Meeting (Overeaters Anonymous Meeting #88762) \nSponsored By:   Region 5 \nDate Time:          Every Sunday from 9:00 AM to 10:00 AM Eastern Time\, 8:00 AM to 9:00 AM Central. \nLocation:             Zoom Meeting ID: 842 2999 2560              Passcode: 23@Coffee \nLink:  https://us06web.zoom.us/j/84229992560?pwd=ODRuOGZmL3piaUhsTmhyLy9IamlxZz09 \nDial In:                  +1 312 626 6799 \n+1 929 205 6099 \nCLICK HERE TO DOWNLOAD PDF
URL:https://www.region5oa.org/event/sunday-morning-coffee-and-recovery-meeting/2025-04-13/
LOCATION:Online
CATEGORIES:Repeating
ATTACH;FMTTYPE=image/jpeg:https://www.region5oa.org/wp-content/uploads/2022/03/SundayFlyer.jpg
END:VEVENT
BEGIN:VEVENT
DTSTART;TZID=UTC:20250420T090000
DTEND;TZID=UTC:20250420T100000
DTSTAMP:20260425T080120
CREATED:20220329T184738Z
LAST-MODIFIED:20220329T184738Z
UID:5600-1745139600-1745143200@www.region5oa.org
SUMMARY:Sunday Morning Coffee and Recovery Meeting
DESCRIPTION:I’m Event Type:        Recovery Meeting \nEvent Name:      Sunday Morning Coffee and Recovery Meeting (Overeaters Anonymous Meeting #88762) \nSponsored By:   Region 5 \nDate Time:          Every Sunday from 9:00 AM to 10:00 AM Eastern Time\, 8:00 AM to 9:00 AM Central. \nLocation:             Zoom Meeting ID: 842 2999 2560              Passcode: 23@Coffee \nLink:  https://us06web.zoom.us/j/84229992560?pwd=ODRuOGZmL3piaUhsTmhyLy9IamlxZz09 \nDial In:                  +1 312 626 6799 \n+1 929 205 6099 \nCLICK HERE TO DOWNLOAD PDF
URL:https://www.region5oa.org/event/sunday-morning-coffee-and-recovery-meeting/2025-04-20/
LOCATION:Online
CATEGORIES:Repeating
ATTACH;FMTTYPE=image/jpeg:https://www.region5oa.org/wp-content/uploads/2022/03/SundayFlyer.jpg
END:VEVENT
BEGIN:VEVENT
DTSTART;TZID=UTC:20250427T090000
DTEND;TZID=UTC:20250427T100000
DTSTAMP:20260425T080120
CREATED:20220329T184738Z
LAST-MODIFIED:20220329T184738Z
UID:5601-1745744400-1745748000@www.region5oa.org
SUMMARY:Sunday Morning Coffee and Recovery Meeting
DESCRIPTION:I’m Event Type:        Recovery Meeting \nEvent Name:      Sunday Morning Coffee and Recovery Meeting (Overeaters Anonymous Meeting #88762) \nSponsored By:   Region 5 \nDate Time:          Every Sunday from 9:00 AM to 10:00 AM Eastern Time\, 8:00 AM to 9:00 AM Central. \nLocation:             Zoom Meeting ID: 842 2999 2560              Passcode: 23@Coffee \nLink:  https://us06web.zoom.us/j/84229992560?pwd=ODRuOGZmL3piaUhsTmhyLy9IamlxZz09 \nDial In:                  +1 312 626 6799 \n+1 929 205 6099 \nCLICK HERE TO DOWNLOAD PDF
URL:https://www.region5oa.org/event/sunday-morning-coffee-and-recovery-meeting/2025-04-27/
LOCATION:Online
CATEGORIES:Repeating
ATTACH;FMTTYPE=image/jpeg:https://www.region5oa.org/wp-content/uploads/2022/03/SundayFlyer.jpg
END:VEVENT
END:VCALENDAR