BEGIN:VCALENDAR
VERSION:2.0
PRODID:-//Region 5 of Overeaters Anonymous - ECPv6.15.20//NONSGML v1.0//EN
CALSCALE:GREGORIAN
METHOD:PUBLISH
X-WR-CALNAME:Region 5 of Overeaters Anonymous
X-ORIGINAL-URL:https://www.region5oa.org
X-WR-CALDESC:Events for Region 5 of Overeaters Anonymous
REFRESH-INTERVAL;VALUE=DURATION:PT1H
X-Robots-Tag:noindex
X-PUBLISHED-TTL:PT1H
BEGIN:VTIMEZONE
TZID:UTC
BEGIN:STANDARD
TZOFFSETFROM:+0000
TZOFFSETTO:+0000
TZNAME:UTC
DTSTART:20270101T000000
END:STANDARD
END:VTIMEZONE
BEGIN:VEVENT
DTSTART;TZID=UTC:20280116T090000
DTEND;TZID=UTC:20280116T100000
DTSTAMP:20260425T092453
CREATED:20220329T184738Z
LAST-MODIFIED:20220329T184738Z
UID:6472-1831626000-1831629600@www.region5oa.org
SUMMARY:Sunday Morning Coffee and Recovery Meeting
DESCRIPTION:I’m Event Type:        Recovery Meeting \nEvent Name:      Sunday Morning Coffee and Recovery Meeting (Overeaters Anonymous Meeting #88762) \nSponsored By:   Region 5 \nDate Time:          Every Sunday from 9:00 AM to 10:00 AM Eastern Time\, 8:00 AM to 9:00 AM Central. \nLocation:             Zoom Meeting ID: 842 2999 2560              Passcode: 23@Coffee \nLink:  https://us06web.zoom.us/j/84229992560?pwd=ODRuOGZmL3piaUhsTmhyLy9IamlxZz09 \nDial In:                  +1 312 626 6799 \n+1 929 205 6099 \nCLICK HERE TO DOWNLOAD PDF
URL:https://www.region5oa.org/event/sunday-morning-coffee-and-recovery-meeting/2028-01-16/
LOCATION:Online
CATEGORIES:Repeating
ATTACH;FMTTYPE=image/jpeg:https://www.region5oa.org/wp-content/uploads/2022/03/SundayFlyer.jpg
END:VEVENT
BEGIN:VEVENT
DTSTART;TZID=UTC:20280123T090000
DTEND;TZID=UTC:20280123T100000
DTSTAMP:20260425T092453
CREATED:20220329T184738Z
LAST-MODIFIED:20220329T184738Z
UID:6506-1832230800-1832234400@www.region5oa.org
SUMMARY:Sunday Morning Coffee and Recovery Meeting
DESCRIPTION:I’m Event Type:        Recovery Meeting \nEvent Name:      Sunday Morning Coffee and Recovery Meeting (Overeaters Anonymous Meeting #88762) \nSponsored By:   Region 5 \nDate Time:          Every Sunday from 9:00 AM to 10:00 AM Eastern Time\, 8:00 AM to 9:00 AM Central. \nLocation:             Zoom Meeting ID: 842 2999 2560              Passcode: 23@Coffee \nLink:  https://us06web.zoom.us/j/84229992560?pwd=ODRuOGZmL3piaUhsTmhyLy9IamlxZz09 \nDial In:                  +1 312 626 6799 \n+1 929 205 6099 \nCLICK HERE TO DOWNLOAD PDF
URL:https://www.region5oa.org/event/sunday-morning-coffee-and-recovery-meeting/2028-01-23/
LOCATION:Online
CATEGORIES:Repeating
ATTACH;FMTTYPE=image/jpeg:https://www.region5oa.org/wp-content/uploads/2022/03/SundayFlyer.jpg
END:VEVENT
BEGIN:VEVENT
DTSTART;TZID=UTC:20280130T090000
DTEND;TZID=UTC:20280130T100000
DTSTAMP:20260425T092453
CREATED:20220329T184738Z
LAST-MODIFIED:20220329T184738Z
UID:6517-1832835600-1832839200@www.region5oa.org
SUMMARY:Sunday Morning Coffee and Recovery Meeting
DESCRIPTION:I’m Event Type:        Recovery Meeting \nEvent Name:      Sunday Morning Coffee and Recovery Meeting (Overeaters Anonymous Meeting #88762) \nSponsored By:   Region 5 \nDate Time:          Every Sunday from 9:00 AM to 10:00 AM Eastern Time\, 8:00 AM to 9:00 AM Central. \nLocation:             Zoom Meeting ID: 842 2999 2560              Passcode: 23@Coffee \nLink:  https://us06web.zoom.us/j/84229992560?pwd=ODRuOGZmL3piaUhsTmhyLy9IamlxZz09 \nDial In:                  +1 312 626 6799 \n+1 929 205 6099 \nCLICK HERE TO DOWNLOAD PDF
URL:https://www.region5oa.org/event/sunday-morning-coffee-and-recovery-meeting/2028-01-30/
LOCATION:Online
CATEGORIES:Repeating
ATTACH;FMTTYPE=image/jpeg:https://www.region5oa.org/wp-content/uploads/2022/03/SundayFlyer.jpg
END:VEVENT
BEGIN:VEVENT
DTSTART;TZID=UTC:20280206T090000
DTEND;TZID=UTC:20280206T100000
DTSTAMP:20260425T092453
CREATED:20220329T184738Z
LAST-MODIFIED:20220329T184738Z
UID:6518-1833440400-1833444000@www.region5oa.org
SUMMARY:Sunday Morning Coffee and Recovery Meeting
DESCRIPTION:I’m Event Type:        Recovery Meeting \nEvent Name:      Sunday Morning Coffee and Recovery Meeting (Overeaters Anonymous Meeting #88762) \nSponsored By:   Region 5 \nDate Time:          Every Sunday from 9:00 AM to 10:00 AM Eastern Time\, 8:00 AM to 9:00 AM Central. \nLocation:             Zoom Meeting ID: 842 2999 2560              Passcode: 23@Coffee \nLink:  https://us06web.zoom.us/j/84229992560?pwd=ODRuOGZmL3piaUhsTmhyLy9IamlxZz09 \nDial In:                  +1 312 626 6799 \n+1 929 205 6099 \nCLICK HERE TO DOWNLOAD PDF
URL:https://www.region5oa.org/event/sunday-morning-coffee-and-recovery-meeting/2028-02-06/
LOCATION:Online
CATEGORIES:Repeating
ATTACH;FMTTYPE=image/jpeg:https://www.region5oa.org/wp-content/uploads/2022/03/SundayFlyer.jpg
END:VEVENT
BEGIN:VEVENT
DTSTART;TZID=UTC:20280213T090000
DTEND;TZID=UTC:20280213T100000
DTSTAMP:20260425T092453
CREATED:20220329T184738Z
LAST-MODIFIED:20220329T184738Z
UID:6528-1834045200-1834048800@www.region5oa.org
SUMMARY:Sunday Morning Coffee and Recovery Meeting
DESCRIPTION:I’m Event Type:        Recovery Meeting \nEvent Name:      Sunday Morning Coffee and Recovery Meeting (Overeaters Anonymous Meeting #88762) \nSponsored By:   Region 5 \nDate Time:          Every Sunday from 9:00 AM to 10:00 AM Eastern Time\, 8:00 AM to 9:00 AM Central. \nLocation:             Zoom Meeting ID: 842 2999 2560              Passcode: 23@Coffee \nLink:  https://us06web.zoom.us/j/84229992560?pwd=ODRuOGZmL3piaUhsTmhyLy9IamlxZz09 \nDial In:                  +1 312 626 6799 \n+1 929 205 6099 \nCLICK HERE TO DOWNLOAD PDF
URL:https://www.region5oa.org/event/sunday-morning-coffee-and-recovery-meeting/2028-02-13/
LOCATION:Online
CATEGORIES:Repeating
ATTACH;FMTTYPE=image/jpeg:https://www.region5oa.org/wp-content/uploads/2022/03/SundayFlyer.jpg
END:VEVENT
BEGIN:VEVENT
DTSTART;TZID=UTC:20280220T090000
DTEND;TZID=UTC:20280220T100000
DTSTAMP:20260425T092453
CREATED:20220329T184738Z
LAST-MODIFIED:20220329T184738Z
UID:6588-1834650000-1834653600@www.region5oa.org
SUMMARY:Sunday Morning Coffee and Recovery Meeting
DESCRIPTION:I’m Event Type:        Recovery Meeting \nEvent Name:      Sunday Morning Coffee and Recovery Meeting (Overeaters Anonymous Meeting #88762) \nSponsored By:   Region 5 \nDate Time:          Every Sunday from 9:00 AM to 10:00 AM Eastern Time\, 8:00 AM to 9:00 AM Central. \nLocation:             Zoom Meeting ID: 842 2999 2560              Passcode: 23@Coffee \nLink:  https://us06web.zoom.us/j/84229992560?pwd=ODRuOGZmL3piaUhsTmhyLy9IamlxZz09 \nDial In:                  +1 312 626 6799 \n+1 929 205 6099 \nCLICK HERE TO DOWNLOAD PDF
URL:https://www.region5oa.org/event/sunday-morning-coffee-and-recovery-meeting/2028-02-20/
LOCATION:Online
CATEGORIES:Repeating
ATTACH;FMTTYPE=image/jpeg:https://www.region5oa.org/wp-content/uploads/2022/03/SundayFlyer.jpg
END:VEVENT
BEGIN:VEVENT
DTSTART;TZID=UTC:20280227T090000
DTEND;TZID=UTC:20280227T100000
DTSTAMP:20260425T092453
CREATED:20220329T184738Z
LAST-MODIFIED:20220329T184738Z
UID:6590-1835254800-1835258400@www.region5oa.org
SUMMARY:Sunday Morning Coffee and Recovery Meeting
DESCRIPTION:I’m Event Type:        Recovery Meeting \nEvent Name:      Sunday Morning Coffee and Recovery Meeting (Overeaters Anonymous Meeting #88762) \nSponsored By:   Region 5 \nDate Time:          Every Sunday from 9:00 AM to 10:00 AM Eastern Time\, 8:00 AM to 9:00 AM Central. \nLocation:             Zoom Meeting ID: 842 2999 2560              Passcode: 23@Coffee \nLink:  https://us06web.zoom.us/j/84229992560?pwd=ODRuOGZmL3piaUhsTmhyLy9IamlxZz09 \nDial In:                  +1 312 626 6799 \n+1 929 205 6099 \nCLICK HERE TO DOWNLOAD PDF
URL:https://www.region5oa.org/event/sunday-morning-coffee-and-recovery-meeting/2028-02-27/
LOCATION:Online
CATEGORIES:Repeating
ATTACH;FMTTYPE=image/jpeg:https://www.region5oa.org/wp-content/uploads/2022/03/SundayFlyer.jpg
END:VEVENT
BEGIN:VEVENT
DTSTART;TZID=UTC:20280305T090000
DTEND;TZID=UTC:20280305T100000
DTSTAMP:20260425T092453
CREATED:20220329T184738Z
LAST-MODIFIED:20220329T184738Z
UID:6598-1835859600-1835863200@www.region5oa.org
SUMMARY:Sunday Morning Coffee and Recovery Meeting
DESCRIPTION:I’m Event Type:        Recovery Meeting \nEvent Name:      Sunday Morning Coffee and Recovery Meeting (Overeaters Anonymous Meeting #88762) \nSponsored By:   Region 5 \nDate Time:          Every Sunday from 9:00 AM to 10:00 AM Eastern Time\, 8:00 AM to 9:00 AM Central. \nLocation:             Zoom Meeting ID: 842 2999 2560              Passcode: 23@Coffee \nLink:  https://us06web.zoom.us/j/84229992560?pwd=ODRuOGZmL3piaUhsTmhyLy9IamlxZz09 \nDial In:                  +1 312 626 6799 \n+1 929 205 6099 \nCLICK HERE TO DOWNLOAD PDF
URL:https://www.region5oa.org/event/sunday-morning-coffee-and-recovery-meeting/2028-03-05/
LOCATION:Online
CATEGORIES:Repeating
ATTACH;FMTTYPE=image/jpeg:https://www.region5oa.org/wp-content/uploads/2022/03/SundayFlyer.jpg
END:VEVENT
BEGIN:VEVENT
DTSTART;TZID=UTC:20280312T090000
DTEND;TZID=UTC:20280312T100000
DTSTAMP:20260425T092453
CREATED:20220329T184738Z
LAST-MODIFIED:20220329T184738Z
UID:6604-1836464400-1836468000@www.region5oa.org
SUMMARY:Sunday Morning Coffee and Recovery Meeting
DESCRIPTION:I’m Event Type:        Recovery Meeting \nEvent Name:      Sunday Morning Coffee and Recovery Meeting (Overeaters Anonymous Meeting #88762) \nSponsored By:   Region 5 \nDate Time:          Every Sunday from 9:00 AM to 10:00 AM Eastern Time\, 8:00 AM to 9:00 AM Central. \nLocation:             Zoom Meeting ID: 842 2999 2560              Passcode: 23@Coffee \nLink:  https://us06web.zoom.us/j/84229992560?pwd=ODRuOGZmL3piaUhsTmhyLy9IamlxZz09 \nDial In:                  +1 312 626 6799 \n+1 929 205 6099 \nCLICK HERE TO DOWNLOAD PDF
URL:https://www.region5oa.org/event/sunday-morning-coffee-and-recovery-meeting/2028-03-12/
LOCATION:Online
CATEGORIES:Repeating
ATTACH;FMTTYPE=image/jpeg:https://www.region5oa.org/wp-content/uploads/2022/03/SundayFlyer.jpg
END:VEVENT
BEGIN:VEVENT
DTSTART;TZID=UTC:20280319T090000
DTEND;TZID=UTC:20280319T100000
DTSTAMP:20260425T092453
CREATED:20220329T184738Z
LAST-MODIFIED:20220329T184738Z
UID:6605-1837069200-1837072800@www.region5oa.org
SUMMARY:Sunday Morning Coffee and Recovery Meeting
DESCRIPTION:I’m Event Type:        Recovery Meeting \nEvent Name:      Sunday Morning Coffee and Recovery Meeting (Overeaters Anonymous Meeting #88762) \nSponsored By:   Region 5 \nDate Time:          Every Sunday from 9:00 AM to 10:00 AM Eastern Time\, 8:00 AM to 9:00 AM Central. \nLocation:             Zoom Meeting ID: 842 2999 2560              Passcode: 23@Coffee \nLink:  https://us06web.zoom.us/j/84229992560?pwd=ODRuOGZmL3piaUhsTmhyLy9IamlxZz09 \nDial In:                  +1 312 626 6799 \n+1 929 205 6099 \nCLICK HERE TO DOWNLOAD PDF
URL:https://www.region5oa.org/event/sunday-morning-coffee-and-recovery-meeting/2028-03-19/
LOCATION:Online
CATEGORIES:Repeating
ATTACH;FMTTYPE=image/jpeg:https://www.region5oa.org/wp-content/uploads/2022/03/SundayFlyer.jpg
END:VEVENT
BEGIN:VEVENT
DTSTART;TZID=UTC:20280326T090000
DTEND;TZID=UTC:20280326T100000
DTSTAMP:20260425T092453
CREATED:20220329T184738Z
LAST-MODIFIED:20220329T184738Z
UID:6606-1837674000-1837677600@www.region5oa.org
SUMMARY:Sunday Morning Coffee and Recovery Meeting
DESCRIPTION:I’m Event Type:        Recovery Meeting \nEvent Name:      Sunday Morning Coffee and Recovery Meeting (Overeaters Anonymous Meeting #88762) \nSponsored By:   Region 5 \nDate Time:          Every Sunday from 9:00 AM to 10:00 AM Eastern Time\, 8:00 AM to 9:00 AM Central. \nLocation:             Zoom Meeting ID: 842 2999 2560              Passcode: 23@Coffee \nLink:  https://us06web.zoom.us/j/84229992560?pwd=ODRuOGZmL3piaUhsTmhyLy9IamlxZz09 \nDial In:                  +1 312 626 6799 \n+1 929 205 6099 \nCLICK HERE TO DOWNLOAD PDF
URL:https://www.region5oa.org/event/sunday-morning-coffee-and-recovery-meeting/2028-03-26/
LOCATION:Online
CATEGORIES:Repeating
ATTACH;FMTTYPE=image/jpeg:https://www.region5oa.org/wp-content/uploads/2022/03/SundayFlyer.jpg
END:VEVENT
BEGIN:VEVENT
DTSTART;TZID=UTC:20280402T090000
DTEND;TZID=UTC:20280402T100000
DTSTAMP:20260425T092453
CREATED:20220329T184738Z
LAST-MODIFIED:20220329T184738Z
UID:6607-1838278800-1838282400@www.region5oa.org
SUMMARY:Sunday Morning Coffee and Recovery Meeting
DESCRIPTION:I’m Event Type:        Recovery Meeting \nEvent Name:      Sunday Morning Coffee and Recovery Meeting (Overeaters Anonymous Meeting #88762) \nSponsored By:   Region 5 \nDate Time:          Every Sunday from 9:00 AM to 10:00 AM Eastern Time\, 8:00 AM to 9:00 AM Central. \nLocation:             Zoom Meeting ID: 842 2999 2560              Passcode: 23@Coffee \nLink:  https://us06web.zoom.us/j/84229992560?pwd=ODRuOGZmL3piaUhsTmhyLy9IamlxZz09 \nDial In:                  +1 312 626 6799 \n+1 929 205 6099 \nCLICK HERE TO DOWNLOAD PDF
URL:https://www.region5oa.org/event/sunday-morning-coffee-and-recovery-meeting/2028-04-02/
LOCATION:Online
CATEGORIES:Repeating
ATTACH;FMTTYPE=image/jpeg:https://www.region5oa.org/wp-content/uploads/2022/03/SundayFlyer.jpg
END:VEVENT
BEGIN:VEVENT
DTSTART;TZID=UTC:20280409T090000
DTEND;TZID=UTC:20280409T100000
DTSTAMP:20260425T092453
CREATED:20220329T184738Z
LAST-MODIFIED:20220329T184738Z
UID:6632-1838883600-1838887200@www.region5oa.org
SUMMARY:Sunday Morning Coffee and Recovery Meeting
DESCRIPTION:I’m Event Type:        Recovery Meeting \nEvent Name:      Sunday Morning Coffee and Recovery Meeting (Overeaters Anonymous Meeting #88762) \nSponsored By:   Region 5 \nDate Time:          Every Sunday from 9:00 AM to 10:00 AM Eastern Time\, 8:00 AM to 9:00 AM Central. \nLocation:             Zoom Meeting ID: 842 2999 2560              Passcode: 23@Coffee \nLink:  https://us06web.zoom.us/j/84229992560?pwd=ODRuOGZmL3piaUhsTmhyLy9IamlxZz09 \nDial In:                  +1 312 626 6799 \n+1 929 205 6099 \nCLICK HERE TO DOWNLOAD PDF
URL:https://www.region5oa.org/event/sunday-morning-coffee-and-recovery-meeting/2028-04-09/
LOCATION:Online
CATEGORIES:Repeating
ATTACH;FMTTYPE=image/jpeg:https://www.region5oa.org/wp-content/uploads/2022/03/SundayFlyer.jpg
END:VEVENT
BEGIN:VEVENT
DTSTART;TZID=UTC:20280416T090000
DTEND;TZID=UTC:20280416T100000
DTSTAMP:20260425T092453
CREATED:20220329T184738Z
LAST-MODIFIED:20220329T184738Z
UID:6633-1839488400-1839492000@www.region5oa.org
SUMMARY:Sunday Morning Coffee and Recovery Meeting
DESCRIPTION:I’m Event Type:        Recovery Meeting \nEvent Name:      Sunday Morning Coffee and Recovery Meeting (Overeaters Anonymous Meeting #88762) \nSponsored By:   Region 5 \nDate Time:          Every Sunday from 9:00 AM to 10:00 AM Eastern Time\, 8:00 AM to 9:00 AM Central. \nLocation:             Zoom Meeting ID: 842 2999 2560              Passcode: 23@Coffee \nLink:  https://us06web.zoom.us/j/84229992560?pwd=ODRuOGZmL3piaUhsTmhyLy9IamlxZz09 \nDial In:                  +1 312 626 6799 \n+1 929 205 6099 \nCLICK HERE TO DOWNLOAD PDF
URL:https://www.region5oa.org/event/sunday-morning-coffee-and-recovery-meeting/2028-04-16/
LOCATION:Online
CATEGORIES:Repeating
ATTACH;FMTTYPE=image/jpeg:https://www.region5oa.org/wp-content/uploads/2022/03/SundayFlyer.jpg
END:VEVENT
BEGIN:VEVENT
DTSTART;TZID=UTC:20280423T090000
DTEND;TZID=UTC:20280423T100000
DTSTAMP:20260425T092453
CREATED:20220329T184738Z
LAST-MODIFIED:20220329T184738Z
UID:6635-1840093200-1840096800@www.region5oa.org
SUMMARY:Sunday Morning Coffee and Recovery Meeting
DESCRIPTION:I’m Event Type:        Recovery Meeting \nEvent Name:      Sunday Morning Coffee and Recovery Meeting (Overeaters Anonymous Meeting #88762) \nSponsored By:   Region 5 \nDate Time:          Every Sunday from 9:00 AM to 10:00 AM Eastern Time\, 8:00 AM to 9:00 AM Central. \nLocation:             Zoom Meeting ID: 842 2999 2560              Passcode: 23@Coffee \nLink:  https://us06web.zoom.us/j/84229992560?pwd=ODRuOGZmL3piaUhsTmhyLy9IamlxZz09 \nDial In:                  +1 312 626 6799 \n+1 929 205 6099 \nCLICK HERE TO DOWNLOAD PDF
URL:https://www.region5oa.org/event/sunday-morning-coffee-and-recovery-meeting/2028-04-23/
LOCATION:Online
CATEGORIES:Repeating
ATTACH;FMTTYPE=image/jpeg:https://www.region5oa.org/wp-content/uploads/2022/03/SundayFlyer.jpg
END:VEVENT
END:VCALENDAR