BEGIN:VCALENDAR
VERSION:2.0
PRODID:-//Region 5 of Overeaters Anonymous - ECPv6.15.20//NONSGML v1.0//EN
CALSCALE:GREGORIAN
METHOD:PUBLISH
X-ORIGINAL-URL:https://www.region5oa.org
X-WR-CALDESC:Events for Region 5 of Overeaters Anonymous
REFRESH-INTERVAL;VALUE=DURATION:PT1H
X-Robots-Tag:noindex
X-PUBLISHED-TTL:PT1H
BEGIN:VTIMEZONE
TZID:America/Indiana/Indianapolis
BEGIN:DAYLIGHT
TZOFFSETFROM:-0500
TZOFFSETTO:-0400
TZNAME:EDT
DTSTART:20210314T070000
END:DAYLIGHT
BEGIN:STANDARD
TZOFFSETFROM:-0400
TZOFFSETTO:-0500
TZNAME:EST
DTSTART:20211107T060000
END:STANDARD
BEGIN:DAYLIGHT
TZOFFSETFROM:-0500
TZOFFSETTO:-0400
TZNAME:EDT
DTSTART:20220313T070000
END:DAYLIGHT
BEGIN:STANDARD
TZOFFSETFROM:-0400
TZOFFSETTO:-0500
TZNAME:EST
DTSTART:20221106T060000
END:STANDARD
BEGIN:DAYLIGHT
TZOFFSETFROM:-0500
TZOFFSETTO:-0400
TZNAME:EDT
DTSTART:20230312T070000
END:DAYLIGHT
BEGIN:STANDARD
TZOFFSETFROM:-0400
TZOFFSETTO:-0500
TZNAME:EST
DTSTART:20231105T060000
END:STANDARD
END:VTIMEZONE
BEGIN:VEVENT
DTSTART;VALUE=DATE:20220523
DTEND;VALUE=DATE:20220526
DTSTAMP:20260424T185215
CREATED:20220523T164915Z
LAST-MODIFIED:20220523T165804Z
UID:1907-1653264000-1653523199@www.region5oa.org
SUMMARY:Western Michigan Intergroup Retreat
DESCRIPTION:Event Type: Intergroup Retreat\nEvent Title: FIND YOURSELF ON THE ROAD TO RECOVERY\nEvent Dates: Sept. 23 thru 25\, 2022\nSponsored By: Western Michigan Intergroup\nEvent Location: Augustine Center\, Conway\, MI\nAugustine Center Retreat House | Diocese of Gaylord\nEvent Cost: $130 for 2 nights and 5 meals (3 on Saturday\, 2 on Sunday)\nor $140 2 nights and 6 meals (includes Friday evening)\nEvent Flyer: Western Michigan Intergroup 2022 Retreat.pdf
URL:https://www.region5oa.org/event/western-michigan-intergroup-retreat/
LOCATION:Augustine Center\, 2798 US-31\, Conway\, IN\, 49722\, United States
ATTACH;FMTTYPE=image/png:https://www.region5oa.org/wp-content/uploads/2022/05/2022-WMI-Retreat.png
END:VEVENT
END:VCALENDAR