BEGIN:VCALENDAR
VERSION:2.0
PRODID:-//Region 5 of Overeaters Anonymous - ECPv6.15.20//NONSGML v1.0//EN
CALSCALE:GREGORIAN
METHOD:PUBLISH
X-ORIGINAL-URL:https://www.region5oa.org
X-WR-CALDESC:Events for Region 5 of Overeaters Anonymous
REFRESH-INTERVAL;VALUE=DURATION:PT1H
X-Robots-Tag:noindex
X-PUBLISHED-TTL:PT1H
BEGIN:VTIMEZONE
TZID:UTC
BEGIN:STANDARD
TZOFFSETFROM:+0000
TZOFFSETTO:+0000
TZNAME:UTC
DTSTART:20210101T000000
END:STANDARD
END:VTIMEZONE
BEGIN:VTIMEZONE
TZID:America/Indiana/Indianapolis
BEGIN:DAYLIGHT
TZOFFSETFROM:-0500
TZOFFSETTO:-0400
TZNAME:EDT
DTSTART:20210314T070000
END:DAYLIGHT
BEGIN:STANDARD
TZOFFSETFROM:-0400
TZOFFSETTO:-0500
TZNAME:EST
DTSTART:20211107T060000
END:STANDARD
BEGIN:DAYLIGHT
TZOFFSETFROM:-0500
TZOFFSETTO:-0400
TZNAME:EDT
DTSTART:20220313T070000
END:DAYLIGHT
BEGIN:STANDARD
TZOFFSETFROM:-0400
TZOFFSETTO:-0500
TZNAME:EST
DTSTART:20221106T060000
END:STANDARD
BEGIN:DAYLIGHT
TZOFFSETFROM:-0500
TZOFFSETTO:-0400
TZNAME:EDT
DTSTART:20230312T070000
END:DAYLIGHT
BEGIN:STANDARD
TZOFFSETFROM:-0400
TZOFFSETTO:-0500
TZNAME:EST
DTSTART:20231105T060000
END:STANDARD
BEGIN:DAYLIGHT
TZOFFSETFROM:-0500
TZOFFSETTO:-0400
TZNAME:EDT
DTSTART:20240310T070000
END:DAYLIGHT
BEGIN:STANDARD
TZOFFSETFROM:-0400
TZOFFSETTO:-0500
TZNAME:EST
DTSTART:20241103T060000
END:STANDARD
END:VTIMEZONE
BEGIN:VTIMEZONE
TZID:America/Chicago
BEGIN:DAYLIGHT
TZOFFSETFROM:-0600
TZOFFSETTO:-0500
TZNAME:CDT
DTSTART:20220313T080000
END:DAYLIGHT
BEGIN:STANDARD
TZOFFSETFROM:-0500
TZOFFSETTO:-0600
TZNAME:CST
DTSTART:20221106T070000
END:STANDARD
BEGIN:DAYLIGHT
TZOFFSETFROM:-0600
TZOFFSETTO:-0500
TZNAME:CDT
DTSTART:20230312T080000
END:DAYLIGHT
BEGIN:STANDARD
TZOFFSETFROM:-0500
TZOFFSETTO:-0600
TZNAME:CST
DTSTART:20231105T070000
END:STANDARD
BEGIN:DAYLIGHT
TZOFFSETFROM:-0600
TZOFFSETTO:-0500
TZNAME:CDT
DTSTART:20240310T080000
END:DAYLIGHT
BEGIN:STANDARD
TZOFFSETFROM:-0500
TZOFFSETTO:-0600
TZNAME:CST
DTSTART:20241103T070000
END:STANDARD
END:VTIMEZONE
BEGIN:VEVENT
DTSTART;TZID=UTC:20240616T090000
DTEND;TZID=UTC:20240616T100000
DTSTAMP:20260424T220644
CREATED:20220329T184738Z
LAST-MODIFIED:20220329T184738Z
UID:5556-1718528400-1718532000@www.region5oa.org
SUMMARY:Sunday Morning Coffee and Recovery Meeting
DESCRIPTION:I’m Event Type:        Recovery Meeting \nEvent Name:      Sunday Morning Coffee and Recovery Meeting (Overeaters Anonymous Meeting #88762) \nSponsored By:   Region 5 \nDate Time:          Every Sunday from 9:00 AM to 10:00 AM Eastern Time\, 8:00 AM to 9:00 AM Central. \nLocation:             Zoom Meeting ID: 842 2999 2560              Passcode: 23@Coffee \nLink:  https://us06web.zoom.us/j/84229992560?pwd=ODRuOGZmL3piaUhsTmhyLy9IamlxZz09 \nDial In:                  +1 312 626 6799 \n+1 929 205 6099 \nCLICK HERE TO DOWNLOAD PDF
URL:https://www.region5oa.org/event/sunday-morning-coffee-and-recovery-meeting/2024-06-16/
LOCATION:Online
CATEGORIES:Repeating
ATTACH;FMTTYPE=image/jpeg:https://www.region5oa.org/wp-content/uploads/2022/03/SundayFlyer.jpg
END:VEVENT
BEGIN:VEVENT
DTSTART;TZID=UTC:20240609T090000
DTEND;TZID=UTC:20240609T100000
DTSTAMP:20260424T220644
CREATED:20220329T184738Z
LAST-MODIFIED:20220329T184738Z
UID:5555-1717923600-1717927200@www.region5oa.org
SUMMARY:Sunday Morning Coffee and Recovery Meeting
DESCRIPTION:I’m Event Type:        Recovery Meeting \nEvent Name:      Sunday Morning Coffee and Recovery Meeting (Overeaters Anonymous Meeting #88762) \nSponsored By:   Region 5 \nDate Time:          Every Sunday from 9:00 AM to 10:00 AM Eastern Time\, 8:00 AM to 9:00 AM Central. \nLocation:             Zoom Meeting ID: 842 2999 2560              Passcode: 23@Coffee \nLink:  https://us06web.zoom.us/j/84229992560?pwd=ODRuOGZmL3piaUhsTmhyLy9IamlxZz09 \nDial In:                  +1 312 626 6799 \n+1 929 205 6099 \nCLICK HERE TO DOWNLOAD PDF
URL:https://www.region5oa.org/event/sunday-morning-coffee-and-recovery-meeting/2024-06-09/
LOCATION:Online
CATEGORIES:Repeating
ATTACH;FMTTYPE=image/jpeg:https://www.region5oa.org/wp-content/uploads/2022/03/SundayFlyer.jpg
END:VEVENT
BEGIN:VEVENT
DTSTART;TZID=UTC:20240602T090000
DTEND;TZID=UTC:20240602T100000
DTSTAMP:20260424T220644
CREATED:20220329T184738Z
LAST-MODIFIED:20220329T184738Z
UID:5554-1717318800-1717322400@www.region5oa.org
SUMMARY:Sunday Morning Coffee and Recovery Meeting
DESCRIPTION:I’m Event Type:        Recovery Meeting \nEvent Name:      Sunday Morning Coffee and Recovery Meeting (Overeaters Anonymous Meeting #88762) \nSponsored By:   Region 5 \nDate Time:          Every Sunday from 9:00 AM to 10:00 AM Eastern Time\, 8:00 AM to 9:00 AM Central. \nLocation:             Zoom Meeting ID: 842 2999 2560              Passcode: 23@Coffee \nLink:  https://us06web.zoom.us/j/84229992560?pwd=ODRuOGZmL3piaUhsTmhyLy9IamlxZz09 \nDial In:                  +1 312 626 6799 \n+1 929 205 6099 \nCLICK HERE TO DOWNLOAD PDF
URL:https://www.region5oa.org/event/sunday-morning-coffee-and-recovery-meeting/2024-06-02/
LOCATION:Online
CATEGORIES:Repeating
ATTACH;FMTTYPE=image/jpeg:https://www.region5oa.org/wp-content/uploads/2022/03/SundayFlyer.jpg
END:VEVENT
BEGIN:VEVENT
DTSTART;TZID=UTC:20240526T090000
DTEND;TZID=UTC:20240526T100000
DTSTAMP:20260424T220644
CREATED:20220329T184738Z
LAST-MODIFIED:20220329T184738Z
UID:5553-1716714000-1716717600@www.region5oa.org
SUMMARY:Sunday Morning Coffee and Recovery Meeting
DESCRIPTION:I’m Event Type:        Recovery Meeting \nEvent Name:      Sunday Morning Coffee and Recovery Meeting (Overeaters Anonymous Meeting #88762) \nSponsored By:   Region 5 \nDate Time:          Every Sunday from 9:00 AM to 10:00 AM Eastern Time\, 8:00 AM to 9:00 AM Central. \nLocation:             Zoom Meeting ID: 842 2999 2560              Passcode: 23@Coffee \nLink:  https://us06web.zoom.us/j/84229992560?pwd=ODRuOGZmL3piaUhsTmhyLy9IamlxZz09 \nDial In:                  +1 312 626 6799 \n+1 929 205 6099 \nCLICK HERE TO DOWNLOAD PDF
URL:https://www.region5oa.org/event/sunday-morning-coffee-and-recovery-meeting/2024-05-26/
LOCATION:Online
CATEGORIES:Repeating
ATTACH;FMTTYPE=image/jpeg:https://www.region5oa.org/wp-content/uploads/2022/03/SundayFlyer.jpg
END:VEVENT
BEGIN:VEVENT
DTSTART;TZID=UTC:20240519T090000
DTEND;TZID=UTC:20240519T100000
DTSTAMP:20260424T220644
CREATED:20220329T184738Z
LAST-MODIFIED:20220329T184738Z
UID:5552-1716109200-1716112800@www.region5oa.org
SUMMARY:Sunday Morning Coffee and Recovery Meeting
DESCRIPTION:I’m Event Type:        Recovery Meeting \nEvent Name:      Sunday Morning Coffee and Recovery Meeting (Overeaters Anonymous Meeting #88762) \nSponsored By:   Region 5 \nDate Time:          Every Sunday from 9:00 AM to 10:00 AM Eastern Time\, 8:00 AM to 9:00 AM Central. \nLocation:             Zoom Meeting ID: 842 2999 2560              Passcode: 23@Coffee \nLink:  https://us06web.zoom.us/j/84229992560?pwd=ODRuOGZmL3piaUhsTmhyLy9IamlxZz09 \nDial In:                  +1 312 626 6799 \n+1 929 205 6099 \nCLICK HERE TO DOWNLOAD PDF
URL:https://www.region5oa.org/event/sunday-morning-coffee-and-recovery-meeting/2024-05-19/
LOCATION:Online
CATEGORIES:Repeating
ATTACH;FMTTYPE=image/jpeg:https://www.region5oa.org/wp-content/uploads/2022/03/SundayFlyer.jpg
END:VEVENT
BEGIN:VEVENT
DTSTART;TZID=UTC:20240512T090000
DTEND;TZID=UTC:20240512T100000
DTSTAMP:20260424T220644
CREATED:20220329T184738Z
LAST-MODIFIED:20220329T184738Z
UID:5551-1715504400-1715508000@www.region5oa.org
SUMMARY:Sunday Morning Coffee and Recovery Meeting
DESCRIPTION:I’m Event Type:        Recovery Meeting \nEvent Name:      Sunday Morning Coffee and Recovery Meeting (Overeaters Anonymous Meeting #88762) \nSponsored By:   Region 5 \nDate Time:          Every Sunday from 9:00 AM to 10:00 AM Eastern Time\, 8:00 AM to 9:00 AM Central. \nLocation:             Zoom Meeting ID: 842 2999 2560              Passcode: 23@Coffee \nLink:  https://us06web.zoom.us/j/84229992560?pwd=ODRuOGZmL3piaUhsTmhyLy9IamlxZz09 \nDial In:                  +1 312 626 6799 \n+1 929 205 6099 \nCLICK HERE TO DOWNLOAD PDF
URL:https://www.region5oa.org/event/sunday-morning-coffee-and-recovery-meeting/2024-05-12/
LOCATION:Online
CATEGORIES:Repeating
ATTACH;FMTTYPE=image/jpeg:https://www.region5oa.org/wp-content/uploads/2022/03/SundayFlyer.jpg
END:VEVENT
BEGIN:VEVENT
DTSTART;TZID=UTC:20240505T090000
DTEND;TZID=UTC:20240505T100000
DTSTAMP:20260424T220644
CREATED:20220329T184738Z
LAST-MODIFIED:20220329T184738Z
UID:5550-1714899600-1714903200@www.region5oa.org
SUMMARY:Sunday Morning Coffee and Recovery Meeting
DESCRIPTION:I’m Event Type:        Recovery Meeting \nEvent Name:      Sunday Morning Coffee and Recovery Meeting (Overeaters Anonymous Meeting #88762) \nSponsored By:   Region 5 \nDate Time:          Every Sunday from 9:00 AM to 10:00 AM Eastern Time\, 8:00 AM to 9:00 AM Central. \nLocation:             Zoom Meeting ID: 842 2999 2560              Passcode: 23@Coffee \nLink:  https://us06web.zoom.us/j/84229992560?pwd=ODRuOGZmL3piaUhsTmhyLy9IamlxZz09 \nDial In:                  +1 312 626 6799 \n+1 929 205 6099 \nCLICK HERE TO DOWNLOAD PDF
URL:https://www.region5oa.org/event/sunday-morning-coffee-and-recovery-meeting/2024-05-05/
LOCATION:Online
CATEGORIES:Repeating
ATTACH;FMTTYPE=image/jpeg:https://www.region5oa.org/wp-content/uploads/2022/03/SundayFlyer.jpg
END:VEVENT
BEGIN:VEVENT
DTSTART;TZID=UTC:20240428T090000
DTEND;TZID=UTC:20240428T100000
DTSTAMP:20260424T220644
CREATED:20220329T184738Z
LAST-MODIFIED:20220329T184738Z
UID:5549-1714294800-1714298400@www.region5oa.org
SUMMARY:Sunday Morning Coffee and Recovery Meeting
DESCRIPTION:I’m Event Type:        Recovery Meeting \nEvent Name:      Sunday Morning Coffee and Recovery Meeting (Overeaters Anonymous Meeting #88762) \nSponsored By:   Region 5 \nDate Time:          Every Sunday from 9:00 AM to 10:00 AM Eastern Time\, 8:00 AM to 9:00 AM Central. \nLocation:             Zoom Meeting ID: 842 2999 2560              Passcode: 23@Coffee \nLink:  https://us06web.zoom.us/j/84229992560?pwd=ODRuOGZmL3piaUhsTmhyLy9IamlxZz09 \nDial In:                  +1 312 626 6799 \n+1 929 205 6099 \nCLICK HERE TO DOWNLOAD PDF
URL:https://www.region5oa.org/event/sunday-morning-coffee-and-recovery-meeting/2024-04-28/
LOCATION:Online
CATEGORIES:Repeating
ATTACH;FMTTYPE=image/jpeg:https://www.region5oa.org/wp-content/uploads/2022/03/SundayFlyer.jpg
END:VEVENT
BEGIN:VEVENT
DTSTART;VALUE=DATE:20230909
DTEND;VALUE=DATE:20230910
DTSTAMP:20260424T220644
CREATED:20230223T170114Z
LAST-MODIFIED:20230608T164010Z
UID:2994-1694217600-1694303999@www.region5oa.org
SUMMARY:Region 5 2023 Virtual Convention - REGISTER TODAY!
DESCRIPTION:Registration is open!\nFollow this link to register online\n(open through September 8\, 2023):\nONLINE REGISTRATION FORM\nFollow this link to download mail-in registration\n(due on or before August 26th\, 2023):\nMAIL IN REGISTRATION FORM\nFollow this link to download the Convention flyer:\nOA2023ConventionFlyerMain
URL:https://www.region5oa.org/event/region-5-2023-virtual-convention-2/
LOCATION:Online
END:VEVENT
BEGIN:VEVENT
DTSTART;TZID=America/Chicago:20230111T183000
DTEND;TZID=America/Chicago:20230111T220000
DTSTAMP:20260424T220644
CREATED:20221229T150857Z
LAST-MODIFIED:20221229T151044Z
UID:2730-1673461800-1673474400@www.region5oa.org
SUMMARY:REGION 5 2023 VIRTUAL CONVENTION
DESCRIPTION: THEME TO BE DETERMINED \nWE NEED YOUR IDEAS AND SUPPORT FOR BRAINSTORMING\,SO PLEASE COME TO THE NEXT MEETING AND HELP US PLANA GREAT ONE DAY CONVENTION. \n TOGETHER WE CAN DO WHAT WE COULD NEVER DO ALONE \nCLICK HERE TO DOWNLOAD FILE \nPLANNING MEETING INVITATION BELOW \nJANUARY 11\, 2023 AT 6:30PM CST  \nMeeting ID: 858 4722 0310 \nPasscode: 574995 \nOr by phone: \n+13092053325\, 85847220310#\, *574995# US \n+13126266799\, 85847220310#\, *574995# US (Chicago) \nNO ABSTINENCE REQUIREMENT TO BE ON A COMMITTEE!
URL:https://www.region5oa.org/event/region-5-2023-virtual-convention/
LOCATION:Online
ATTACH;FMTTYPE=image/jpeg:https://www.region5oa.org/wp-content/uploads/2022/12/R5flyer-1.jpg
END:VEVENT
BEGIN:VEVENT
DTSTART;TZID=America/Indiana/Indianapolis:20230101T090000
DTEND;TZID=America/Indiana/Indianapolis:20230101T150000
DTSTAMP:20260424T220644
CREATED:20221229T150034Z
LAST-MODIFIED:20221229T150034Z
UID:2726-1672563600-1672585200@www.region5oa.org
SUMMARY:2023 Overeaters Anonymous New Year's Day Marathon
DESCRIPTION:January 1\, 2023\n9:00am – 3:00pm \nLEADS \nEvery Hour on the Hour \nSponsored by: Cleveland Central Intergroup \nCLICK HERE TO DOWNLOAD FLYER \nhttps://us02web.zoom.us/j/2738628468?pwd=VWFIaTFXYzc5QXgxZzg0THB4b2hsZz09  \nMeeting ID: 273 862 8468 \nPasscode: steps One tap mobile +13017158592\,\,2738628468#\,\,\,\,*566010# US (Washington DC) +13126266799\,\,2738628468#\,\,\,\,*566010# US (Chicago)
URL:https://www.region5oa.org/event/2023-overeaters-anonymous-new-years-day-marathon/
LOCATION:Online
ATTACH;FMTTYPE=image/jpeg:https://www.region5oa.org/wp-content/uploads/2022/12/2023-NYMarathonFlier-v_3-a9f318b8177c2de5a456859110f325cf.jpg
END:VEVENT
BEGIN:VEVENT
DTSTART;TZID=America/Indiana/Indianapolis:20220821T130000
DTEND;TZID=America/Indiana/Indianapolis:20220821T153000
DTSTAMP:20260424T220644
CREATED:20220812T143341Z
LAST-MODIFIED:20220812T143445Z
UID:2538-1661086800-1661095800@www.region5oa.org
SUMMARY:Sponsorship Awaits You Let’s Put it together
DESCRIPTION:Intergroup Workshop \nCENTRAL INDIANA INTERGROUP OF OVEREATERS ANONYMOUS \nSponsorship Awaits You Let’s Put it together\nAugust 21\, 2022 1-3:30 PM Est \nZoom Meeting \nZOOM LINK: https://us02web.zoom.us/j/87827408455 ZOOM ID: 878 2740 8455 | PASSCODE: Sponsor \nFor more information:  OAINDY317@GMAIL.COM \nEVENT FLYER
URL:https://www.region5oa.org/event/sponsorship-awaits-you-lets-put-it-together/
LOCATION:Online
END:VEVENT
BEGIN:VEVENT
DTSTART;TZID=America/Indiana/Indianapolis:20220520T183000
DTEND;TZID=America/Indiana/Indianapolis:20220520T203000
DTSTAMP:20260424T220644
CREATED:20220519T154330Z
LAST-MODIFIED:20220519T154645Z
UID:1888-1653071400-1653078600@www.region5oa.org
SUMMARY:Intergroup Marathon
DESCRIPTION:
URL:https://www.region5oa.org/event/intergroup-marathon/2022-05-20/
LOCATION:Online
ATTACH;FMTTYPE=image/png:https://www.region5oa.org/wp-content/uploads/2022/05/PassItOnFlyer.png
END:VEVENT
BEGIN:VEVENT
DTSTART;TZID=UTC:20220403T090000
DTEND;TZID=UTC:20220403T100000
DTSTAMP:20260424T220644
CREATED:20220329T184738Z
LAST-MODIFIED:20250705T130746Z
UID:91-1648976400-1648980000@www.region5oa.org
SUMMARY:Sunday Morning Coffee and Recovery Meeting
DESCRIPTION:I’m Event Type:        Recovery Meeting \nEvent Name:      Sunday Morning Coffee and Recovery Meeting (Overeaters Anonymous Meeting #88762) \nSponsored By:   Region 5 \nDate Time:          Every Sunday from 9:00 AM to 10:00 AM Eastern Time\, 8:00 AM to 9:00 AM Central. \nLocation:             Zoom Meeting ID: 842 2999 2560              Passcode: 23@Coffee \nLink:  https://us06web.zoom.us/j/84229992560?pwd=ODRuOGZmL3piaUhsTmhyLy9IamlxZz09 \nDial In:                  +1 312 626 6799 \n+1 929 205 6099 \nCLICK HERE TO DOWNLOAD PDF
URL:https://www.region5oa.org/event/sunday-morning-coffee-and-recovery-meeting/2022-04-03/
LOCATION:Online
CATEGORIES:Repeating
ATTACH;FMTTYPE=image/jpeg:https://www.region5oa.org/wp-content/uploads/2022/03/SundayFlyer.jpg
END:VEVENT
END:VCALENDAR