BEGIN:VCALENDAR
VERSION:2.0
PRODID:-//Region 5 of Overeaters Anonymous - ECPv6.15.20//NONSGML v1.0//EN
CALSCALE:GREGORIAN
METHOD:PUBLISH
X-WR-CALNAME:Region 5 of Overeaters Anonymous
X-ORIGINAL-URL:https://www.region5oa.org
X-WR-CALDESC:Events for Region 5 of Overeaters Anonymous
REFRESH-INTERVAL;VALUE=DURATION:PT1H
X-Robots-Tag:noindex
X-PUBLISHED-TTL:PT1H
BEGIN:VTIMEZONE
TZID:America/Indiana/Indianapolis
BEGIN:DAYLIGHT
TZOFFSETFROM:-0500
TZOFFSETTO:-0400
TZNAME:EDT
DTSTART:20250309T070000
END:DAYLIGHT
BEGIN:STANDARD
TZOFFSETFROM:-0400
TZOFFSETTO:-0500
TZNAME:EST
DTSTART:20251102T060000
END:STANDARD
BEGIN:DAYLIGHT
TZOFFSETFROM:-0500
TZOFFSETTO:-0400
TZNAME:EDT
DTSTART:20260308T070000
END:DAYLIGHT
BEGIN:STANDARD
TZOFFSETFROM:-0400
TZOFFSETTO:-0500
TZNAME:EST
DTSTART:20261101T060000
END:STANDARD
BEGIN:DAYLIGHT
TZOFFSETFROM:-0500
TZOFFSETTO:-0400
TZNAME:EDT
DTSTART:20270314T070000
END:DAYLIGHT
BEGIN:STANDARD
TZOFFSETFROM:-0400
TZOFFSETTO:-0500
TZNAME:EST
DTSTART:20271107T060000
END:STANDARD
END:VTIMEZONE
BEGIN:VEVENT
DTSTART;VALUE=DATE:20260313
DTEND;VALUE=DATE:20260316
DTSTAMP:20260424T111634
CREATED:20260126T194546Z
LAST-MODIFIED:20260126T194546Z
UID:6510-1773360000-1773619199@www.region5oa.org
SUMMARY:OVEREATERS ANONYMOUS SPRING RETREAT - NEVER GIVE UP
DESCRIPTION:OVEREATERS ANONYMOUS SPRING RETREAT SPONSORED BY CHI-WIF INTERGROUP \nNEVER GIVE UP \nMarch 13-15\, 2026 \nJOIN US FOR A WEEKEND OF HOPE AND RECOVERY AND FELLOWSHIP. \nRegistration: January 2026 through March 2\, 2026 \nContact and Payment: Mary R. – Payments can be made by check mailed with this form (see below) or Zelle to 630-310-2989 and email registration to mvroberts777@gmail.com \nWhere: Portiuncula Center for Prayer (The Port) 9623 W St. Francis Rd\, Frankfort\, IL 60423 \nCost: Single $217 (includes room and meals) Double $197 (includes room and meals) \nFull commuter: $157 (includes 4 meals) \nSaturday Only Commuter: $78 (includes 3 meals on Saturday) \nSpecial meal requirements $3 extra per meal \nReturn this form with payment to: Mary R. – 808 Wimbledon Ct.\, Bolingbrook\, IL 60440 OR Email to mvroberts777@gmail.com if using Zelle payment method. \nCLICK HERE TO DOWNLOAD PDF
URL:https://www.region5oa.org/event/overeaters-anonymous-spring-retreat-never-give-up/
LOCATION:Portiuncula Center for Prayer\, 9623 W St. Francis Rd\, Frankfort\, IL\, 60423\, United States
ATTACH;FMTTYPE=image/jpeg:https://www.region5oa.org/wp-content/uploads/2026/01/Spring-Retreat-2026-Registration-FLYER-.jpg
END:VEVENT
END:VCALENDAR